BEGIN:VCALENDAR
VERSION:2.0
METHOD:PUBLISH
BEGIN:VEVENT
UID:8dd619c56cedd09c1ab99b2079e04e79
DTSTAMP:20200229T133231
DTSTART:20180520T000000Z
DTEND:Array 10:00:00 PM
LOCATION:Ararat-Stawell FGA
SUMMARY:Ararat-Stawell
DESCRIPTION:75 SIM GRD HCP David McMillan Memorial - 1 of 4
TRANSP:OPAQUE
SEQUENCE:0
PRIORITY:1
CLASS:PUBLIC
END:VEVENT
END:VCALENDAR